BEGIN:VCALENDAR
VERSION:2.0
PRODID:-//Eventin//Event Calendar//EN
CALSCALE:GREGORIAN
METHOD:PUBLISH
BEGIN:VEVENT
UID:227ab886c28689fa5abb0dfca4657342@iiamadras.org
SUMMARY:One Day Conclave on “Leading with Trust: Financial Leadership\, G
 overnance & Strategy in a Disruptive World”
DESCRIPTION:One Day Conclave\nTheme :“Leading with Trust: Financial Leade
 rship\, Governance & Strategy in a Disruptive World”\nDate : 29 May 2026 
 | Friday\nVenue : Madras Management Association (MMA)New No:240\, Pathari R
 d\, Anna Salai\, Chennai\, Tamil Nadu 600006\nCPE: 6 hours\nDELEGATE FEEStu
 dents: Rs.1000  + GST 18%Others: Rs.2000 +  GST 18%\nOrganised by : THE
  INSTITUTE OF INTERNAL AUDITORS (IIA) – INDIA\, Madras Chapter In Associa
 tion with MADRAS MANAGEMENT ASSOCIATION (MMA)\n 
LOCATION:Madras Management Association (MMA)
DTSTAMP:20260419T141342Z
DTSTART:20260528T203000Z
DTEND:20260529T060000Z
END:VEVENT
END:VCALENDAR
