BEGIN:VCALENDAR
VERSION:2.0
PRODID:-//Eventin//Event Calendar//EN
CALSCALE:GREGORIAN
METHOD:PUBLISH
BEGIN:VEVENT
UID:310ccc5e9ec2c0ee21117e6ee03ecd95@iiamadras.org
SUMMARY:Ethics Case Study - Webinar
DESCRIPTION:WEBINAR - Zoom\nTitle : Ethics Case Study\nSpeaker : Mr. Raman 
 Narasimhan\,\nChief Risk officer\,\nSundaram Finance Limited\nDate: 22 Dece
 mber 2022Ã‚Â  Thursday\nTime: 05:30 PM - 07:30 PMÃ‚Â  IST\nOrgani
 ser: IIA Madras Chapter\n\n[embedpress_pdf]https://iiamadras.org/wp-content
 /uploads/2022/12/IIA-Madras-Brochure-Ethics-Case-Study.pdf[/embedpress_pdf]
LOCATION:Online
DTSTAMP:20260422T203231Z
DTSTART:20221222T230000Z
DTEND:20260423T010000Z
END:VEVENT
END:VCALENDAR
