BEGIN:VCALENDAR
VERSION:2.0
PRODID:-//Eventin//Event Calendar//EN
CALSCALE:GREGORIAN
METHOD:PUBLISH
BEGIN:VEVENT
UID:1ccb2dc7a36083b82c16cb2bc3432a06@iiamadras.org
SUMMARY:Cyber Security - Tools and Techniques - Webinar
DESCRIPTION:IIA Madras Chapter\n\nWebinar:Ã‚Â  ZOOM\n\nTopic: Cyber Se
 curity - Tools and Techniques\n\nDate: 12- January - 2023 | Thursday\n\nTim
 e: 05:30 PM to 07:30PM\n\nSpeaker:Ã‚Â  Ã‚Â Mr. Manoj Pandian\nÃ
 ‚Â  Ã‚Â  Ã‚Â  Ã‚Â  Ã‚Â  Ã‚Â  Ã‚Â  Ã‚Â
   Ã‚Â  Ã‚Â  Lead Auditor - Technology Risk and Process\nÃ‚Â
   Ã‚Â  Ã‚Â  Ã‚Â  Ã‚Â  Ã‚Â  Ã‚Â  Ã‚Â  Ã
 ‚Â  Ã‚Â  Reserve Bank Information Technology Private Limited\n\n[e
 mbedpress_pdf]https://iiamadras.org/wp-content/uploads/2023/01/IIA-Madras-B
 rochure-12-JAN-2022.pdf[/embedpress_pdf]
LOCATION:Online
DTSTAMP:20260419T124816Z
DTSTART:20230112T230000Z
DTEND:20260420T010000Z
END:VEVENT
END:VCALENDAR
